BEGIN:VCALENDAR
VERSION:2.0
PRODID:-//ETSV Lauda – Abteilung Tischtennis - ECPv6.15.20//NONSGML v1.0//EN
CALSCALE:GREGORIAN
METHOD:PUBLISH
X-ORIGINAL-URL:https://www.etsv-lauda-tt.de
X-WR-CALDESC:Veranstaltungen für ETSV Lauda – Abteilung Tischtennis
REFRESH-INTERVAL;VALUE=DURATION:PT1H
X-Robots-Tag:noindex
X-PUBLISHED-TTL:PT1H
BEGIN:VTIMEZONE
TZID:Europe/Berlin
BEGIN:DAYLIGHT
TZOFFSETFROM:+0100
TZOFFSETTO:+0200
TZNAME:CEST
DTSTART:20250330T010000
END:DAYLIGHT
BEGIN:STANDARD
TZOFFSETFROM:+0200
TZOFFSETTO:+0100
TZNAME:CET
DTSTART:20251026T010000
END:STANDARD
BEGIN:DAYLIGHT
TZOFFSETFROM:+0100
TZOFFSETTO:+0200
TZNAME:CEST
DTSTART:20260329T010000
END:DAYLIGHT
BEGIN:STANDARD
TZOFFSETFROM:+0200
TZOFFSETTO:+0100
TZNAME:CET
DTSTART:20261025T010000
END:STANDARD
BEGIN:DAYLIGHT
TZOFFSETFROM:+0100
TZOFFSETTO:+0200
TZNAME:CEST
DTSTART:20270328T010000
END:DAYLIGHT
BEGIN:STANDARD
TZOFFSETFROM:+0200
TZOFFSETTO:+0100
TZNAME:CET
DTSTART:20271031T010000
END:STANDARD
END:VTIMEZONE
BEGIN:VEVENT
DTSTART;TZID=Europe/Berlin:20260424T200000
DTEND;TZID=Europe/Berlin:20260424T230000
DTSTAMP:20260424T104505
CREATED:20250810T200447Z
LAST-MODIFIED:20260110T131326Z
UID:12833-1777060800-1777071600@www.etsv-lauda-tt.de
SUMMARY:ETSV Lauda III vs. DJK Unterbalbach
DESCRIPTION:Heimspiel Erwachsene III | Kreisklasse A | Rückrunde
URL:https://www.etsv-lauda-tt.de/termin/etsv-lauda-iii-vs-djk-unterbalbach/
LOCATION:Bahnhofsturnhalle ETSV Lauda\, Bahnhofstraße 29\, Lauda-Königshofen\, 97922\, Deutschland
CATEGORIES:Erwachsene – 3. Mannschaft,Spieltermine
END:VEVENT
BEGIN:VEVENT
DTSTART;TZID=Europe/Berlin:20260425T160000
DTEND;TZID=Europe/Berlin:20260425T190000
DTSTAMP:20260424T104505
CREATED:20250810T195616Z
LAST-MODIFIED:20260110T131650Z
UID:12819-1777132800-1777143600@www.etsv-lauda-tt.de
SUMMARY:SV Seckach vs. ETSV Lauda
DESCRIPTION:Auswärtsspiel | Erwachsene I | Bezirksklasse TBB-BCH | Rückrunde
URL:https://www.etsv-lauda-tt.de/termin/sv-seckach-vs-etsv-lauda/
LOCATION:Tischtennishalle Seckach\, Bahnhofstraße 61\, Seckach\, 74743\, Deutschland
CATEGORIES:Erwachsene – 1. Mannschaft,Spieltermine
END:VEVENT
BEGIN:VEVENT
DTSTART;TZID=Europe/Berlin:20260508T190000
DTEND;TZID=Europe/Berlin:20260508T210000
DTSTAMP:20260424T104505
CREATED:20260419T120000Z
LAST-MODIFIED:20260419T122649Z
UID:9707-1778266800-1778274000@www.etsv-lauda-tt.de
SUMMARY:ETSV Generalversammlung 2026
DESCRIPTION:Die satzungsgemäße Generalversammlung des ETSV 1904 Lauda e. V. findet am Freitag\, den 8. Mai 2026 um 19:00 Uhr in der ETSV-Halle statt. Alle aktiven und passiven Mitglieder sowie Ehrenmitglieder sind hierzu herzlich eingeladen.
URL:https://www.etsv-lauda-tt.de/termin/etsv-generalversammlung-2026/
LOCATION:Bahnhofsturnhalle ETSV Lauda\, Bahnhofstraße 29\, Lauda-Königshofen\, 97922\, Deutschland
CATEGORIES:Allgemeine Termine
ORGANIZER;CN="ETSV Lauda %E2%80%93 Gesamtverein":MAILTO:vorstand@etsv-lauda.de
END:VEVENT
END:VCALENDAR